BEGIN:VCALENDAR
PRODID:-//AT Content Types//AT Event//EN
VERSION:2.0
METHOD:PUBLISH
BEGIN:VEVENT
DTSTAMP:20260423T212907Z
CREATED:20191120T111442Z
UID:ATEvent-c5f63703b9aa44b9afc209554ccd8d2e
LAST-MODIFIED:20191120T121457Z
SUMMARY:Entrevista com Ricardo Bahia Machado
DTSTART:20191120T111500Z
DTEND:20191231T111500Z
DESCRIPTION:Curso de Curta Duração "Finanças para Gestores não Fin
 anceiros"
LOCATION:Instalações do ISCAP
CLASS:PUBLIC
END:VEVENT
END:VCALENDAR
